BEGIN:VCALENDAR
VERSION:2.0
PRODID:-//Library Market//iCal Export//EN
BEGIN:VEVENT
SUMMARY:East Library Book Group
UID:556639
DTSTAMP:20260424T204400Z
DTSTART:20261111T170000Z
DTEND:20261111T180000Z
LOCATION:East Library, 5550 N. Union Blvd., Colorado Springs, CO 80918, Un
 ited States
ROOM: East Community Meeting Room
DESCRIPTION:Join us for a monthly book group that meets on the first Wedne
 sday of the month at 10 a.m. This month we will be reading the All Pikes P
 eak Reads choice, title to be determined at a later date.Book groups are o
 pen to everyone, and they are a great opportunity to discover new genres a
 nd titles, meet new people, have a good conversation, and get to know more
  about PPLD. All Book Groups are facilitated by PPLD Staff.   
URL:https://ppld.librarymarket.com/event/east-library-book-group-556639
END:VEVENT
END:VCALENDAR
