BEGIN:VCALENDAR
VERSION:2.0
PRODID:-//Library Market//iCal Export//EN
BEGIN:VEVENT
SUMMARY:Homeschool: Make-a-Masterpiece
UID:555702
DTSTAMP:20260420T083200Z
DTSTART:20261002T160000Z
DTEND:20261002T173000Z
LOCATION:East Library, 5550 N. Union Blvd., Colorado Springs, CO 80918, Un
 ited States
ROOM: East Community Meeting Room
DESCRIPTION:Each month a new hands-on program introduces kids to an artist
  and artistic techniques in an engaging way. Join us to learn something ne
 w and create your own masterpiece!For ages 8 - 13. Registration is require
 d.This program repeats at Ruth Holley Library on Thursday, October 8, 1 - 
 2:30 PM.
URL:https://ppld.librarymarket.com/event/homeschool-make-masterpiece-55570
 2
END:VEVENT
END:VCALENDAR
