BEGIN:VCALENDAR
VERSION:2.0
PRODID:-//Library Market//iCal Export//EN
BEGIN:VEVENT
SUMMARY:Homeschool: Make-a-Masterpiece
UID:555421
DTSTAMP:20260419T132700Z
DTSTART:20261210T200000Z
DTEND:20261210T213000Z
LOCATION:Library 21c, 1175 Chapel Hills Dr., Colorado Springs, CO 80920, U
 nited States
ROOM: Library 21c: CreateSpace
DESCRIPTION:Each month a new hands-on program introduces kids to an artist
  and artistic techniques in an engaging way. Join us to learn something ne
 w and create your own masterpiece!For ages 8 - 13. Registration is require
 d.This program repeats at East Library on Friday, December 11, 10 - 11:30 
 AM.
URL:https://ppld.librarymarket.com/event/homeschool-make-masterpiece-55542
 1
END:VEVENT
END:VCALENDAR
