BEGIN:VCALENDAR
VERSION:2.0
PRODID:-//Library Market//iCal Export//EN
BEGIN:VEVENT
SUMMARY:Homeschool: Make-a-Masterpiece
UID:553793
DTSTAMP:20260420T193500Z
DTSTART:20261113T170000Z
DTEND:20261113T183000Z
LOCATION:East Library, 5550 N. Union Blvd., Colorado Springs, CO 80918, Un
 ited States
ROOM: East Community Meeting Room
DESCRIPTION:Each month a new hands-on program introduces kids to an artist
  and artistic techniques in an engaging way. Join us to learn something ne
 w and create your own masterpiece!For ages 8 - 13. Registration is require
 d.This program repeats at High Prairie Library on Thursday, November 12, 1
  - 2:30 PM.
URL:https://ppld.librarymarket.com/event/homeschool-make-masterpiece-place
 holder-553793
END:VEVENT
END:VCALENDAR
