BEGIN:VCALENDAR
VERSION:2.0
PRODID:-//Library Market//iCal Export//EN
BEGIN:VEVENT
SUMMARY:Homeschool: Make-a-Masterpiece
UID:552673
DTSTAMP:20260421T192400Z
DTSTART:20260911T160000Z
DTEND:20260911T173000Z
LOCATION:East Library, 5550 N. Union Blvd., Colorado Springs, CO 80918, Un
 ited States
ROOM: East Community Meeting Room
DESCRIPTION:Each month a new hands-on program introduces kids to an artist
  and artistic techniques in an engaging way. Join us to learn something ne
 w and create your own masterpiece!For ages 8 - 13. Registration is require
 d.This program repeats at Cheyenne Mountain Library on Thursday, September
  10, 1 - 2:30 PM.
URL:https://ppld.librarymarket.com/event/homeschool-make-masterpiece-place
 holder-552673
END:VEVENT
END:VCALENDAR
