BEGIN:VCALENDAR
VERSION:2.0
PRODID:-//Library Market//iCal Export//EN
BEGIN:VEVENT
SUMMARY:Natural Grocers: Demystifying Protein
UID:552050
DTSTAMP:20260420T003700Z
DTSTART:20260724T180000Z
DTEND:20260724T200000Z
LOCATION:Old Colorado City Library, 2418 W. Pikes Peak Ave., Colorado Spri
 ngs, CO 80904, United States
ROOM: Old Colorado City Meeting Room
DESCRIPTION:In this class, we will explore topics such as the ideal protei
 n quantity for your individual needs, the best food sources for top qualit
 y protein, and the diverse array of protein supplements available.   Pre
 sented by Natural Grocers.
URL:https://ppld.librarymarket.com/event/tbd-552050
END:VEVENT
END:VCALENDAR
