BEGIN:VCALENDAR
VERSION:2.0
PRODID:-//Library Market//iCal Export//EN
BEGIN:VEVENT
SUMMARY:Four-Part Medicare Series: Part 4 - Medicare Errors, Senior Medica
 re Patrol, Fraud Detection, and Common Scams
UID:548696
DTSTAMP:20260419T182400Z
DTSTART:20260529T220000Z
DTEND:20260529T230000Z
LOCATION:East Library, 5550 N. Union Blvd., Colorado Springs, CO 80918, Un
 ited States
ROOM: East Community Meeting Room
DESCRIPTION:Four-Part Medicare Series: Part 4 - Medicare Errors, Senior Me
 dicare Patrol, Fraud Detection, and Common Scams The Four-Part Medicare S
 eries goes beyond the basics of Medicare and retirement. This series is de
 signed and presented by the Pikes Peak Area Agency on Aging’s (PPAAA) Se
 nior Insurance Assistance department and the State Health Insurance Progra
 m (SHIP) to provide information to guide and support you as you make impor
 tant health care decisions that affect the rest of your life. Part four e
 xplains Medicare fraud, errors, and abuse, the Senior Medicare Patrol, fra
 ud detection and Medicare notices, and common scams and marketing violati
 ons to be aware of when it comes to protecting your information.   Medic
 are Series Part 1 , Medicare Series Part 2 , and Medicare Series Part 3 ar
 e recommended. Registration is required.
URL:https://ppld.librarymarket.com/event/medicare-101-series-548696
END:VEVENT
END:VCALENDAR
