BEGIN:VCALENDAR
VERSION:2.0
PRODID:-//Library Market//iCal Export//EN
BEGIN:VEVENT
SUMMARY:Summer Adventure Celebration
UID:546946
DTSTAMP:20260420T143700Z
DTSTART:20260717T170000Z
DTEND:20260717T180000Z
LOCATION:Fountain Library, 230 S. Main St., Fountain, CO 80817, United Sta
 tes
ROOM: Fountain Meeting Room
DESCRIPTION:Join Katherine Dines for a family-friendly, fun-filled concert
  as we celebrate Summer Adventure presented by Friends of the Pikes Peak L
 ibrary District. Along with singing and dancing, we will have frozen custa
 rd provided by Culvers from 10:30 - 11:30 a.m., while supplies last. 
URL:https://ppld.librarymarket.com/event/summer-adventure-celebration-5469
 46
END:VEVENT
END:VCALENDAR
