BEGIN:VCALENDAR
VERSION:2.0
PRODID:-//Library Market//iCal Export//EN
BEGIN:VEVENT
SUMMARY:Library Explorers
UID:545320
DTSTAMP:20260425T145300Z
DTSTART:20260504T170000Z
DTEND:20260504T180000Z
LOCATION:Manitou Springs Library, 701 Manitou Ave., Colorado Springs, CO 8
 0829, United States
ROOM: Manitou Springs Meeting Room
DESCRIPTION:Library Explorers gives adults with differing physical and dev
 elopmental abilities the opportunity to enjoy accessible Library programs 
 that fit their abilities and individual needs.
URL:https://ppld.librarymarket.com/event/library-explorers-545320
END:VEVENT
END:VCALENDAR
