BEGIN:VCALENDAR
VERSION:2.0
PRODID:-//Library Market//iCal Export//EN
BEGIN:VEVENT
SUMMARY:DIY Coaster Quartet
UID:540047
DTSTAMP:20260419T132700Z
DTSTART:20260828T210000Z
DTEND:20260828T223000Z
LOCATION:Old Colorado City Library, 2418 W. Pikes Peak Ave., Colorado Spri
 ngs, CO 80904, United States
ROOM: Old Colorado City Meeting Room
DESCRIPTION:Join us for a hands-on craft program where you will make a set
  of four distinct coasters to take home, perfect as small gifts or to add 
 personality to your own table. All supplies will be provided. Ages 18 and 
 up. Registration required.
URL:https://ppld.librarymarket.com/event/diy-coaster-540047
END:VEVENT
END:VCALENDAR
