BEGIN:VCALENDAR
VERSION:2.0
PRODID:-//Library Market//iCal Export//EN
BEGIN:VEVENT
SUMMARY:Gaming at the Library!
UID:538936
DTSTAMP:20260421T173600Z
DTSTART:20261017T190000Z
DTEND:20261017T210000Z
LOCATION:Old Colorado City Library, 2418 W. Pikes Peak Ave., Colorado Spri
 ngs, CO 80904, United States
ROOM: Old Colorado City Meeting Room
DESCRIPTION:Gaming at the Library!Have you ever wanted to learn how to pla
 y trading card games (TCGs)? Whether this is your first time playing a TCG
  or you&#039;re looking to meet other players, join us at Old Colorado Cit
 y Library every 1st and 3rd Saturday of the month from 1 - 3 p.m. as we in
 troduce you to the world of Disney Lorcana. All ages and skill levels are 
 welcome. In partnership with Dice Guys, starter decks will be available to
  use or bring your own deck to try out. Disney Lorcana Trading Card Game 
 is a trademark of Disney Enterprise, Inc. This program is not affiliated w
 ith or sponsored by Disney or Ravensburger.
URL:https://ppld.librarymarket.com/event/tcg-program-538936
END:VEVENT
END:VCALENDAR
